
BEGIN:VCALENDAR
VERSION:2.0
PRODID:-//Creature Comforts - ECPv6.15.20//NONSGML v1.0//EN
CALSCALE:GREGORIAN
METHOD:PUBLISH
X-ORIGINAL-URL:https://creaturecomfortsbeer.com
X-WR-CALDESC:Events for Creature Comforts
REFRESH-INTERVAL;VALUE=DURATION:PT1H
X-Robots-Tag:noindex
X-PUBLISHED-TTL:PT1H
BEGIN:VTIMEZONE
TZID:America/New_York
BEGIN:DAYLIGHT
TZOFFSETFROM:-0500
TZOFFSETTO:-0400
TZNAME:EDT
DTSTART:20200308T070000
END:DAYLIGHT
BEGIN:STANDARD
TZOFFSETFROM:-0400
TZOFFSETTO:-0500
TZNAME:EST
DTSTART:20201101T060000
END:STANDARD
BEGIN:DAYLIGHT
TZOFFSETFROM:-0500
TZOFFSETTO:-0400
TZNAME:EDT
DTSTART:20210314T070000
END:DAYLIGHT
BEGIN:STANDARD
TZOFFSETFROM:-0400
TZOFFSETTO:-0500
TZNAME:EST
DTSTART:20211107T060000
END:STANDARD
BEGIN:DAYLIGHT
TZOFFSETFROM:-0500
TZOFFSETTO:-0400
TZNAME:EDT
DTSTART:20220313T070000
END:DAYLIGHT
BEGIN:STANDARD
TZOFFSETFROM:-0400
TZOFFSETTO:-0500
TZNAME:EST
DTSTART:20221106T060000
END:STANDARD
END:VTIMEZONE
BEGIN:VEVENT
DTSTART;TZID=America/New_York:20210306T120000
DTEND;TZID=America/New_York:20210306T220000
DTSTAMP:20260424T070821
CREATED:20210302T211705Z
LAST-MODIFIED:20210302T215326Z
UID:3140-1615032000-1615068000@creaturecomfortsbeer.com
SUMMARY:Georgia Beer Day
DESCRIPTION:Join us in celebrating Georgia Beer Day! Grab one of the limited-edition Georgia Beer Day glasses while you enjoy live music onsite. In partnership with Georgia Craft Brewers Guild member breweries and Boelter glassware\, $1 from every glass will be donated to the Georgia Craft Brewers Guild! Follow us on Instagram for more details!
URL:https://creaturecomfortsbeer.com/events/georgia-beer-day/
LOCATION:GA
ATTACH;FMTTYPE=image/jpeg:https://creaturecomfortsbeer.com/wp-content/uploads/2021/03/Georgia-Beer-Day_Insta-2-scaled.jpg
END:VEVENT
BEGIN:VEVENT
DTSTART;TZID=America/New_York:20210312T120000
DTEND;TZID=America/New_York:20210312T220000
DTSTAMP:20260424T070821
CREATED:20210308T211251Z
LAST-MODIFIED:20210308T211251Z
UID:3161-1615550400-1615586400@creaturecomfortsbeer.com
SUMMARY:The Silent World Release
DESCRIPTION:The Silent World is a 5.0% ABV Black Lager featuring chocolate and coffee notes\, with caramel and toffee undertones. We brewed this beer to dive into the depths of our love for old-world\, traditional beer styles\, specifically showcasing a type of lager that we greatly enjoy.
URL:https://creaturecomfortsbeer.com/events/the-silent-world-release/
LOCATION:GA
ATTACH;FMTTYPE=image/jpeg:https://creaturecomfortsbeer.com/wp-content/uploads/2021/03/CCBC_TSWStillInsta-3.jpg
END:VEVENT
BEGIN:VEVENT
DTSTART;TZID=America/New_York:20210312T120000
DTEND;TZID=America/New_York:20210312T220000
DTSTAMP:20260424T070821
CREATED:20210309T161115Z
LAST-MODIFIED:20210309T161115Z
UID:3162-1615550400-1615586400@creaturecomfortsbeer.com
SUMMARY:Everything Is Riwaka
DESCRIPTION:Our Everything Is series is a lineup of 5.2% ABV rotating single-hop dry-hopped Pilsners. This version of Everything Is features Riwaka hops giving the beer a bright tropical and citrus flavor and aroma.
URL:https://creaturecomfortsbeer.com/events/everything-is-riwaka/
LOCATION:GA
ATTACH;FMTTYPE=image/jpeg:https://creaturecomfortsbeer.com/wp-content/uploads/2021/03/CCBC_EvIsRiwakaStillInsta-.jpg
END:VEVENT
BEGIN:VEVENT
DTSTART;TZID=America/New_York:20210316T170000
DTEND;TZID=America/New_York:20210316T173000
DTSTAMP:20260424T070821
CREATED:20210316T143316Z
LAST-MODIFIED:20210316T143316Z
UID:3195-1615914000-1615915800@creaturecomfortsbeer.com
SUMMARY:Instagram Live with Sierra Nevada
DESCRIPTION:Our Brewmaster\, Adam Beauchamp & VP of Strategic Impact\, Matt Stevens\, are going live on Instagram with our friends from Sierra Nevada Brewing Co. at 5PM to highlight our latest collaboration\, Get Comfortable Double IPA.
URL:https://creaturecomfortsbeer.com/events/instagram-live-with-sierra-nevada/
LOCATION:GA
ATTACH;FMTTYPE=image/jpeg:https://creaturecomfortsbeer.com/wp-content/uploads/2021/03/GC-IG-live.jpg
END:VEVENT
BEGIN:VEVENT
DTSTART;TZID=America/New_York:20210320T120000
DTEND;TZID=America/New_York:20210320T220000
DTSTAMP:20260424T070821
CREATED:20210317T181841Z
LAST-MODIFIED:20210317T181841Z
UID:3197-1616241600-1616277600@creaturecomfortsbeer.com
SUMMARY:Common Things & Rhonda Release
DESCRIPTION:Common Things & Rhonda\, our latest bottle releases are available at the brewery starting today! Both releases feature locally sourced ingredients and highlight our continuing effort to explore the historical relationship between brewers and farmers.
URL:https://creaturecomfortsbeer.com/events/common-things-rhonda-release/
LOCATION:GA
ATTACH;FMTTYPE=image/jpeg:https://creaturecomfortsbeer.com/wp-content/uploads/2021/03/CCBC_CommonRhondaStillInsta-.jpg
END:VEVENT
BEGIN:VEVENT
DTSTART;TZID=America/New_York:20210322T180000
DTEND;TZID=America/New_York:20210322T220000
DTSTAMP:20260424T070821
CREATED:20210322T133922Z
LAST-MODIFIED:20210322T133922Z
UID:3212-1616436000-1616450400@creaturecomfortsbeer.com
SUMMARY:Taproom Hours - 3/22
DESCRIPTION:Due to an all staff meeting our drive-thru will be open from 12:00 – 4:00 pm & our taproom hours will be from 6:00 pm -10:00 pm.
URL:https://creaturecomfortsbeer.com/events/taproom-hours-3-22/
LOCATION:GA
ATTACH;FMTTYPE=image/jpeg:https://creaturecomfortsbeer.com/wp-content/uploads/2020/08/CCBC_SnowTireFacadeStillWeb-1-2.jpg
END:VEVENT
BEGIN:VEVENT
DTSTART;TZID=America/New_York:20210326T120000
DTEND;TZID=America/New_York:20210326T220000
DTSTAMP:20260424T070821
CREATED:20210322T193142Z
LAST-MODIFIED:20210322T193142Z
UID:3211-1616760000-1616796000@creaturecomfortsbeer.com
SUMMARY:Born Dreaming Release
DESCRIPTION:Born Dreaming is an 8.0% ABV Hazy Double IPA brewed in collaboration with our friends from Highland Park Brewery. The beer features Strata\, Citra (Cryo & Incognito)\, & Mosaic (Cryo & Incognito) hops.
URL:https://creaturecomfortsbeer.com/events/born-dreaming-release/
LOCATION:GA
ATTACH;FMTTYPE=image/jpeg:https://creaturecomfortsbeer.com/wp-content/uploads/2021/03/CCBC_BornDreamingStillInsta-.jpg
END:VEVENT
END:VCALENDAR