
BEGIN:VCALENDAR
VERSION:2.0
PRODID:-//Creature Comforts - ECPv6.15.20//NONSGML v1.0//EN
CALSCALE:GREGORIAN
METHOD:PUBLISH
X-ORIGINAL-URL:https://creaturecomfortsbeer.com
X-WR-CALDESC:Events for Creature Comforts
REFRESH-INTERVAL;VALUE=DURATION:PT1H
X-Robots-Tag:noindex
X-PUBLISHED-TTL:PT1H
BEGIN:VTIMEZONE
TZID:America/New_York
BEGIN:DAYLIGHT
TZOFFSETFROM:-0500
TZOFFSETTO:-0400
TZNAME:EDT
DTSTART:20200308T070000
END:DAYLIGHT
BEGIN:STANDARD
TZOFFSETFROM:-0400
TZOFFSETTO:-0500
TZNAME:EST
DTSTART:20201101T060000
END:STANDARD
BEGIN:DAYLIGHT
TZOFFSETFROM:-0500
TZOFFSETTO:-0400
TZNAME:EDT
DTSTART:20210314T070000
END:DAYLIGHT
BEGIN:STANDARD
TZOFFSETFROM:-0400
TZOFFSETTO:-0500
TZNAME:EST
DTSTART:20211107T060000
END:STANDARD
BEGIN:DAYLIGHT
TZOFFSETFROM:-0500
TZOFFSETTO:-0400
TZNAME:EDT
DTSTART:20220313T070000
END:DAYLIGHT
BEGIN:STANDARD
TZOFFSETFROM:-0400
TZOFFSETTO:-0500
TZNAME:EST
DTSTART:20221106T060000
END:STANDARD
END:VTIMEZONE
BEGIN:VEVENT
DTSTART;TZID=America/New_York:20210203T160000
DTEND;TZID=America/New_York:20210203T170000
DTSTAMP:20260424T082547
CREATED:20210120T150342Z
LAST-MODIFIED:20210120T151555Z
UID:2978-1612368000-1612371600@creaturecomfortsbeer.com
SUMMARY:Conversations on Diversity\, Community\, and Sustainability with Sierra Nevada
DESCRIPTION:Hear from industry leaders like Jeff White\, the CEO at Sierra Nevada; Dr. J. Nikol Jackson-Beckham\, the Diversity Ambassador at the Brewers Association; Adam Beauchamp\, Brewmaster at Creature Comforts\, and many others!​ \n​Leading up to the event\, 3 pre-recorded videos will be released. And during the live Q&A on February 3rd\, we’ll have both breweries available to discuss the program and answer your questions.​ \n​This event takes place online February 3rd @ 4:00 and will be hosted by UGA’s Willson Center for Humanities & the Arts.
URL:https://creaturecomfortsbeer.com/events/conversations-on-diversity-community-and-sustainability-with-sierra-nevada/
LOCATION:GA
ATTACH;FMTTYPE=image/jpeg:https://creaturecomfortsbeer.com/wp-content/uploads/2021/01/SocialPromotion_GC_WillsonCenter_logo_1080x1080.jpg
END:VEVENT
BEGIN:VEVENT
DTSTART;TZID=America/New_York:20210205T120000
DTEND;TZID=America/New_York:20210205T220000
DTSTAMP:20260424T082547
CREATED:20210201T200327Z
LAST-MODIFIED:20210201T200327Z
UID:3010-1612526400-1612562400@creaturecomfortsbeer.com
SUMMARY:Dear Queenstown Release
DESCRIPTION:Dear Queenstown is a Pale Ale (5.9%) brewed with New Zealand hops\, Nelson Sauvin and Pacific Sunrise. This Pale Ale is easy-drinking with tropical\, citrus\, and floral notes.
URL:https://creaturecomfortsbeer.com/events/dear-queenstown-release/
LOCATION:GA
ATTACH;FMTTYPE=image/jpeg:https://creaturecomfortsbeer.com/wp-content/uploads/2021/01/CCBC_DearQueenstownStillInsta-6743.jpg
END:VEVENT
BEGIN:VEVENT
DTSTART;TZID=America/New_York:20210206T120000
DTEND;TZID=America/New_York:20210206T220000
DTSTAMP:20260424T082547
CREATED:20210127T185531Z
LAST-MODIFIED:20210127T185531Z
UID:2988-1612612800-1612648800@creaturecomfortsbeer.com
SUMMARY:Double Koko Buni Release
DESCRIPTION:Double Koko Buni is an Imperial Milk Porter (8.7%) made with toasted coconut\, cocoa nibs\, coffee\, vanilla\, and lactose. Rich\, velvety\, and balanced\, Double Koko Buni is a spin on our seasonal Milk Porter Koko Buni and a truly decadent experience. We sourced the coffee beans locally from 1000 Faces Coffee\, and the cocoa nibs came from Ethereal Confections in Woodstock\, IL & Condor Chocolates here in Athens. Gilly Brew Bar will also be onsite from 12-5pm!
URL:https://creaturecomfortsbeer.com/events/double-koko-buni-release/
LOCATION:GA
ATTACH;FMTTYPE=image/jpeg:https://creaturecomfortsbeer.com/wp-content/uploads/2019/03/CCBC_DoubleKokoStillInsta-.jpg
END:VEVENT
BEGIN:VEVENT
DTSTART;TZID=America/New_York:20210210T160000
DTEND;TZID=America/New_York:20210210T170000
DTSTAMP:20260424T082547
CREATED:20210208T163629Z
LAST-MODIFIED:20210208T163629Z
UID:3050-1612972800-1612976400@creaturecomfortsbeer.com
SUMMARY:Get Comfortable 2021 Launch
DESCRIPTION:After wrapping another successful year of Get Comfortable last month\, the team here at Creature Comforts—along with dozens of other local business partners—are ready to commence another year of funding the agencies doing the most to meet our city’s greatest needs. \nJoin us for a Get Comfortable virtual launch event\, taking place on Wednesday\, February 10th at 4:00. During this live presentation\, you’ll learn more about Get Comfortable in 2021\, meet our 12 agency partners\, learn about this year’s beer recipe\, and celebrate another year of supporting the city we love. \nThe presentation itself will take place from 4:00 – 4:45 pm. So please mark your calendars and grab some Creature beer to help celebrate the start of another year of Get Comfortable. We’d love it if you’d extend this invitation to any curious colleagues! \nCLICK HERE TO ACCESS THE 2021 LAUNCH ZOOM LINK.
URL:https://creaturecomfortsbeer.com/events/get-comfortable-2021-launch/
LOCATION:GA
ATTACH;FMTTYPE=image/jpeg:https://creaturecomfortsbeer.com/wp-content/uploads/2021/02/GC2021_Launch_1_1080x1080.jpg
END:VEVENT
BEGIN:VEVENT
DTSTART;TZID=America/New_York:20210210T170000
DTEND;TZID=America/New_York:20210210T220000
DTSTAMP:20260424T082547
CREATED:20210210T152334Z
LAST-MODIFIED:20210210T152334Z
UID:3062-1612976400-1612994400@creaturecomfortsbeer.com
SUMMARY:Athena Paradiso Release
DESCRIPTION:Athena Paradiso is a refreshing\, gently tart German-style wheat beer brewed with a house blend of lactobacillus and a variety of fruit juices and purees. This version of Athena Paradiso is brewed with tart cherry\, raspberry\, and cranberry.
URL:https://creaturecomfortsbeer.com/events/athena-paradiso-release/
LOCATION:GA
ATTACH;FMTTYPE=image/jpeg:https://creaturecomfortsbeer.com/wp-content/uploads/2019/01/CCBC_CRCStyledStillInsta-2.jpg
END:VEVENT
BEGIN:VEVENT
DTSTART;TZID=America/New_York:20210213T120000
DTEND;TZID=America/New_York:20210213T220000
DTSTAMP:20260424T082547
CREATED:20210204T183507Z
LAST-MODIFIED:20210204T183507Z
UID:3041-1613217600-1613253600@creaturecomfortsbeer.com
SUMMARY:Hickory Diamond Release
DESCRIPTION:Hickory Diamond is a blended oak-aged beer with local strawberries from Hickory Hill and Diamond Hill Farm’s 2020 harvest. After aging on a generous amount of berries from these two farms\, Hickory Diamond returned to barrels for further maturation before making its way into bottles.
URL:https://creaturecomfortsbeer.com/events/hickory-diamond-release/
LOCATION:GA
ATTACH;FMTTYPE=image/jpeg:https://creaturecomfortsbeer.com/wp-content/uploads/2021/02/CCBC_HickoryDiamond21StillInsta-6750.jpg
END:VEVENT
BEGIN:VEVENT
DTSTART;TZID=America/New_York:20210219T120000
DTEND;TZID=America/New_York:20210219T220000
DTSTAMP:20260424T082547
CREATED:20210215T193450Z
LAST-MODIFIED:20210215T193450Z
UID:3079-1613736000-1613772000@creaturecomfortsbeer.com
SUMMARY:Cuts From the Bine Release
DESCRIPTION:Cuts From the Bine is a juicy West Coast-style Double IPA released annually to highlight the finest hops from our favorite farmers’ yearly crops. This year’s release showcases Ekuanot from Van Horn Farms and Idaho 7 and Mosaic hops sourced from Jackson Hop Farms 2020 crops.
URL:https://creaturecomfortsbeer.com/events/cuts-from-the-bine-release/
LOCATION:GA
ATTACH;FMTTYPE=image/jpeg:https://creaturecomfortsbeer.com/wp-content/uploads/2021/02/CCBC_CFTBStillInsta-.jpg
END:VEVENT
BEGIN:VEVENT
DTSTART;TZID=America/New_York:20210219T120000
DTEND;TZID=America/New_York:20210219T220000
DTSTAMP:20260424T082547
CREATED:20210215T230101Z
LAST-MODIFIED:20210215T220157Z
UID:3085-1613736000-1613772000@creaturecomfortsbeer.com
SUMMARY:Creature Stout Release
DESCRIPTION:Creature Stout is a Coffee Stout (8%) made with Guatemalan Hunapu coffee from 1000 Faces Coffee. The coffee perfectly complements this luscious\, roasty\, and delicious Stout with dark chocolate and toffee notes.
URL:https://creaturecomfortsbeer.com/events/creature-stout-release/
LOCATION:GA
ATTACH;FMTTYPE=image/jpeg:https://creaturecomfortsbeer.com/wp-content/uploads/2021/02/CCBC_CreatureStoutStillInsta-.jpg
END:VEVENT
BEGIN:VEVENT
DTSTART;VALUE=DATE:20210222
DTEND;VALUE=DATE:20210223
DTSTAMP:20260424T082547
CREATED:20210222T140016Z
LAST-MODIFIED:20210222T153735Z
UID:2997-1613952000-1614038399@creaturecomfortsbeer.com
SUMMARY:Taproom Closed
DESCRIPTION:Our drive-thru will be closing at 4 pm today for a staff meeting. Our Taproom will be closed and will reopen 2/23. See you tomorrow!
URL:https://creaturecomfortsbeer.com/events/drive-thru-closed/
LOCATION:GA
ATTACH;FMTTYPE=image/jpeg:https://creaturecomfortsbeer.com/wp-content/uploads/2020/01/Screen-Shot-2020-01-28-at-11.35.25-AM.jpg
END:VEVENT
BEGIN:VEVENT
DTSTART;TZID=America/New_York:20210227T120000
DTEND;TZID=America/New_York:20210227T220000
DTSTAMP:20260424T082547
CREATED:20210222T155350Z
LAST-MODIFIED:20210222T155350Z
UID:3099-1614427200-1614463200@creaturecomfortsbeer.com
SUMMARY:Concurrence No. 7 Release
DESCRIPTION:Concurrence Blend No. 7 is a barrel-aged Imperial Stout (13.9%) with cocoa nibs\, Mexican vanilla beans\, pecans\, benne seed\, chili peppers\, and cinnamon. Our Concurrence Blend series is a continued exploration into barrel-aged stouts paired with the finest quality adjunct ingredients. By selecting the perfect barrels at the most refined point of aging\, each blend of Concurrence truly captures the meaning of its moniker.
URL:https://creaturecomfortsbeer.com/events/concurrence-no-7-release/
LOCATION:GA
ATTACH;FMTTYPE=image/jpeg:https://creaturecomfortsbeer.com/wp-content/uploads/2021/02/CCBC_Conc7StillInsta-.jpg
END:VEVENT
END:VCALENDAR