
BEGIN:VCALENDAR
VERSION:2.0
PRODID:-//Creature Comforts - ECPv6.15.20//NONSGML v1.0//EN
CALSCALE:GREGORIAN
METHOD:PUBLISH
X-WR-CALNAME:Creature Comforts
X-ORIGINAL-URL:https://creaturecomfortsbeer.com
X-WR-CALDESC:Events for Creature Comforts
REFRESH-INTERVAL;VALUE=DURATION:PT1H
X-Robots-Tag:noindex
X-PUBLISHED-TTL:PT1H
BEGIN:VTIMEZONE
TZID:America/New_York
BEGIN:DAYLIGHT
TZOFFSETFROM:-0500
TZOFFSETTO:-0400
TZNAME:EDT
DTSTART:20240310T070000
END:DAYLIGHT
BEGIN:STANDARD
TZOFFSETFROM:-0400
TZOFFSETTO:-0500
TZNAME:EST
DTSTART:20241103T060000
END:STANDARD
BEGIN:DAYLIGHT
TZOFFSETFROM:-0500
TZOFFSETTO:-0400
TZNAME:EDT
DTSTART:20250309T070000
END:DAYLIGHT
BEGIN:STANDARD
TZOFFSETFROM:-0400
TZOFFSETTO:-0500
TZNAME:EST
DTSTART:20251102T060000
END:STANDARD
BEGIN:DAYLIGHT
TZOFFSETFROM:-0500
TZOFFSETTO:-0400
TZNAME:EDT
DTSTART:20260308T070000
END:DAYLIGHT
BEGIN:STANDARD
TZOFFSETFROM:-0400
TZOFFSETTO:-0500
TZNAME:EST
DTSTART:20261101T060000
END:STANDARD
BEGIN:DAYLIGHT
TZOFFSETFROM:-0500
TZOFFSETTO:-0400
TZNAME:EDT
DTSTART:20270314T070000
END:DAYLIGHT
BEGIN:STANDARD
TZOFFSETFROM:-0400
TZOFFSETTO:-0500
TZNAME:EST
DTSTART:20271107T060000
END:STANDARD
END:VTIMEZONE
BEGIN:VEVENT
DTSTART;VALUE=DATE:20260102
DTEND;VALUE=DATE:20260108
DTSTAMP:20260425T101754
CREATED:20260102T170859Z
LAST-MODIFIED:20260102T170859Z
UID:9586-1767312000-1767830399@creaturecomfortsbeer.com
SUMMARY:Taproom and Cura Closed
DESCRIPTION:Our taproom and Cura are closed Friday\, 1/2 through Wednesday\, 1/7. We will re-open at 5pm on Thursday\, 1/8. Happy New Year!
URL:https://creaturecomfortsbeer.com/events/taproom-and-cura-closed/
LOCATION:Athens Taproom\, 271 W Hancock Ave\, Athens\, GA\, 30601\, United States
CATEGORIES:Athens
ATTACH;FMTTYPE=image/png:https://creaturecomfortsbeer.com/wp-content/uploads/2022/12/Cclight-taproom-draft-post-2.png
END:VEVENT
BEGIN:VEVENT
DTSTART;TZID=America/New_York:20251220T170000
DTEND;TZID=America/New_York:20251220T210000
DTSTAMP:20260425T101754
CREATED:20230905T174528Z
LAST-MODIFIED:20260305T175341Z
UID:9538-1766250000-1766264400@creaturecomfortsbeer.com
SUMMARY:Cafe Racer Food Truck Onsite
DESCRIPTION:Cafe Racer’s food truck will be onsite serving their famous burgers and fries!
URL:https://creaturecomfortsbeer.com/events/cafe-racer-food-truck-onsite-2025-12-20/
LOCATION:Athens Taproom\, 271 W Hancock Ave\, Athens\, GA\, 30601\, United States
CATEGORIES:Athens
ATTACH;FMTTYPE=image/jpeg:https://creaturecomfortsbeer.com/wp-content/uploads/2023/09/Cafe-Racer.jpg
END:VEVENT
BEGIN:VEVENT
DTSTART;TZID=America/New_York:20251219T170000
DTEND;TZID=America/New_York:20251219T210000
DTSTAMP:20260425T101754
CREATED:20251029T174456Z
LAST-MODIFIED:20260102T173831Z
UID:9536-1766163600-1766178000@creaturecomfortsbeer.com
SUMMARY:Punta Cana Pop Up Onsite
DESCRIPTION:Punta Cana Latin Grill will be onsite serving up their delicious empanadas!
URL:https://creaturecomfortsbeer.com/events/punta-cana-pop-up-onsite-2025-12-19/
LOCATION:Athens Taproom\, 271 W Hancock Ave\, Athens\, GA\, 30601\, United States
CATEGORIES:Athens
ATTACH;FMTTYPE=image/jpeg:https://creaturecomfortsbeer.com/wp-content/uploads/2025/10/DEC89F47-32C5-4BF3-9403-F511EA2941D9-1.jpg
END:VEVENT
BEGIN:VEVENT
DTSTART;TZID=America/New_York:20251212T190000
DTEND;TZID=America/New_York:20251212T210000
DTSTAMP:20260425T101754
CREATED:20251208T204619Z
LAST-MODIFIED:20260302T212930Z
UID:9533-1765566000-1765573200@creaturecomfortsbeer.com
SUMMARY:Live Music: Justin Vreeland
DESCRIPTION:Justin Vreeland will be onsite serenading the taproom with folk\, country\, and Americana covers and originals!
URL:https://creaturecomfortsbeer.com/events/live-music-justin-vreeland/
LOCATION:Athens Taproom\, 271 W Hancock Ave\, Athens\, GA\, 30601\, United States
CATEGORIES:Athens
ATTACH;FMTTYPE=image/webp:https://creaturecomfortsbeer.com/wp-content/uploads/2025/12/meta-eyJzcmNCdWNrZXQiOiJiemdsZmlsZXMifQ-1.webp
END:VEVENT
BEGIN:VEVENT
DTSTART;TZID=America/New_York:20251212T170000
DTEND;TZID=America/New_York:20251212T210000
DTSTAMP:20260425T101754
CREATED:20251029T174456Z
LAST-MODIFIED:20260102T173830Z
UID:9535-1765558800-1765573200@creaturecomfortsbeer.com
SUMMARY:Punta Cana Pop Up Onsite
DESCRIPTION:Punta Cana Latin Grill will be onsite serving up their delicious empanadas!
URL:https://creaturecomfortsbeer.com/events/punta-cana-pop-up-onsite-2025-12-12/
LOCATION:Athens Taproom\, 271 W Hancock Ave\, Athens\, GA\, 30601\, United States
CATEGORIES:Athens
ATTACH;FMTTYPE=image/jpeg:https://creaturecomfortsbeer.com/wp-content/uploads/2025/10/DEC89F47-32C5-4BF3-9403-F511EA2941D9-1.jpg
END:VEVENT
BEGIN:VEVENT
DTSTART;TZID=America/New_York:20251207T140000
DTEND;TZID=America/New_York:20251207T160000
DTSTAMP:20260425T101754
CREATED:20251203T204747Z
LAST-MODIFIED:20251203T204747Z
UID:9513-1765116000-1765123200@creaturecomfortsbeer.com
SUMMARY:Paint and Sip Class with Kelly's Paint Parties
DESCRIPTION:Enjoy a pint and paint this holiday scene with Kelly’s Paint Parties! Sign up HERE \n 
URL:https://creaturecomfortsbeer.com/events/paint-and-sip-class-with-kellys-paint-parties/
LOCATION:Athens Taproom\, 271 W Hancock Ave\, Athens\, GA\, 30601\, United States
CATEGORIES:Athens
ATTACH;FMTTYPE=image/png:https://creaturecomfortsbeer.com/wp-content/uploads/2025/12/1000006260-1.png
END:VEVENT
BEGIN:VEVENT
DTSTART;TZID=America/New_York:20251206T150000
DTEND;TZID=America/New_York:20251206T220000
DTSTAMP:20260425T101754
CREATED:20230905T164908Z
LAST-MODIFIED:20251203T204335Z
UID:9432-1765033200-1765058400@creaturecomfortsbeer.com
SUMMARY:Super Taco Food Truck Onsite
DESCRIPTION:Enjoy some delicious Mexican fare from our friends at Super Taco!
URL:https://creaturecomfortsbeer.com/events/super-taco-food-truck-onsite-2025-11-01/
LOCATION:Athens Taproom\, 271 W Hancock Ave\, Athens\, GA\, 30601\, United States
CATEGORIES:Athens
ATTACH;FMTTYPE=image/jpeg:https://creaturecomfortsbeer.com/wp-content/uploads/2023/09/Super-Taco.jpeg
END:VEVENT
BEGIN:VEVENT
DTSTART;TZID=America/New_York:20251205T150000
DTEND;TZID=America/New_York:20251205T220000
DTSTAMP:20260425T101754
CREATED:20251203T204108Z
LAST-MODIFIED:20251203T204108Z
UID:9511-1764946800-1764972000@creaturecomfortsbeer.com
SUMMARY:2025 Holiday Artists' Market
DESCRIPTION:Come shop for the holidays at Creature Comforts! We’ll have 25+ local vendors onsite to meet all of your shopping needs. Garf + Friends will be setting the mood with holiday jazz from 5-7pm\, followed by additional holiday tunes from Basketball Team from 7:30-9pm. Santa will also be onsite from 6-8pm! Give back to the community while you’re here; we’re hosting a food drive benefitting Food Bank of Northeast Georgia.
URL:https://creaturecomfortsbeer.com/events/2025-holiday-artists-market/
LOCATION:Athens Taproom\, 271 W Hancock Ave\, Athens\, GA\, 30601\, United States
CATEGORIES:Athens
ATTACH;FMTTYPE=image/jpeg:https://creaturecomfortsbeer.com/wp-content/uploads/2025/12/CCBC_holiday-market_IG_Post_2025-1.jpg
END:VEVENT
BEGIN:VEVENT
DTSTART;TZID=America/New_York:20251129T120000
DTEND;TZID=America/New_York:20251129T210000
DTSTAMP:20260425T101754
CREATED:20240219T214605Z
LAST-MODIFIED:20240219T214605Z
UID:9456-1764417600-1764450000@creaturecomfortsbeer.com
SUMMARY:La Pa on Wheels Onsite
DESCRIPTION:Enjoy some Mexican fare from our friends at La Parrilla!
URL:https://creaturecomfortsbeer.com/events/la-pa-on-wheels-onsite-2025-11-29/
LOCATION:Athens Taproom\, 271 W Hancock Ave\, Athens\, GA\, 30601\, United States
CATEGORIES:Athens
ATTACH;FMTTYPE=image/jpeg:https://creaturecomfortsbeer.com/wp-content/uploads/2023/03/LaPa-on-Wheels-e1685030331546.jpeg
END:VEVENT
BEGIN:VEVENT
DTSTART;TZID=America/New_York:20251128T153000
DTEND;TZID=America/New_York:20251128T190000
DTSTAMP:20260425T101754
CREATED:20240911T212229Z
LAST-MODIFIED:20251029T185051Z
UID:7251-1764343800-1764356400@creaturecomfortsbeer.com
SUMMARY:UGA vs. Georgia Tech Watch Party
DESCRIPTION:Watch the UGA vs. Georgia Tech game at the Official Taproom of the Dawgs! We’ll kick off our Keep Chopping Wood glassware giveaway at kickoff. DJ Lah-ree will also be in the house to play some sweet tunes during commercial breaks. Try our new Classic City Light while you’re here!
URL:https://creaturecomfortsbeer.com/events/uga-vs-kentucky-watch-party/
LOCATION:Athens Taproom\, 271 W Hancock Ave\, Athens\, GA\, 30601\, United States
CATEGORIES:Athens
ATTACH;FMTTYPE=image/jpeg:https://creaturecomfortsbeer.com/wp-content/uploads/2024/09/Events_Page_Generic_02.jpg
END:VEVENT
BEGIN:VEVENT
DTSTART;TZID=America/New_York:20251128T150000
DTEND;TZID=America/New_York:20251128T210000
DTSTAMP:20260425T101754
CREATED:20230905T174528Z
LAST-MODIFIED:20260305T175340Z
UID:9537-1764342000-1764363600@creaturecomfortsbeer.com
SUMMARY:Cafe Racer Food Truck Onsite
DESCRIPTION:Cafe Racer’s food truck will be onsite serving their famous burgers and fries!
URL:https://creaturecomfortsbeer.com/events/cafe-racer-food-truck-onsite-2025-11-28/
LOCATION:Athens Taproom\, 271 W Hancock Ave\, Athens\, GA\, 30601\, United States
CATEGORIES:Athens
ATTACH;FMTTYPE=image/jpeg:https://creaturecomfortsbeer.com/wp-content/uploads/2023/09/Cafe-Racer.jpg
END:VEVENT
BEGIN:VEVENT
DTSTART;TZID=America/New_York:20251123T123000
DTEND;TZID=America/New_York:20251123T133000
DTSTAMP:20260425T101754
CREATED:20251029T184605Z
LAST-MODIFIED:20251029T184605Z
UID:9450-1763901000-1763904600@creaturecomfortsbeer.com
SUMMARY:Magpie Pilates Class Onsite
DESCRIPTION:Magpie Pilates is hosting a free mat class onsite! Sign up HERE
URL:https://creaturecomfortsbeer.com/events/magpie-pilates-class-onsite/
LOCATION:Athens Taproom\, 271 W Hancock Ave\, Athens\, GA\, 30601\, United States
CATEGORIES:Athens
ATTACH;FMTTYPE=image/jpeg:https://creaturecomfortsbeer.com/wp-content/uploads/2025/10/MagpiePilatesRectangleColor-1.jpg
END:VEVENT
BEGIN:VEVENT
DTSTART;TZID=America/New_York:20251122T120000
DTEND;TZID=America/New_York:20251122T210000
DTSTAMP:20260425T101754
CREATED:20250228T215634Z
LAST-MODIFIED:20260305T175120Z
UID:9453-1763812800-1763845200@creaturecomfortsbeer.com
SUMMARY:Pizza Flamma Onsite
DESCRIPTION:Pizza Flamma will be onsite serving their delicious pies!
URL:https://creaturecomfortsbeer.com/events/pizza-flamma-onsite-2025-11-22/
LOCATION:Athens Taproom\, 271 W Hancock Ave\, Athens\, GA\, 30601\, United States
CATEGORIES:Athens
ATTACH;FMTTYPE=image/png:https://creaturecomfortsbeer.com/wp-content/uploads/2025/02/Black-Logo-Pizza-Flamma.png
END:VEVENT
BEGIN:VEVENT
DTSTART;TZID=America/New_York:20251122T120000
DTEND;TZID=America/New_York:20251122T210000
DTSTAMP:20260425T101754
CREATED:20240703T205110Z
LAST-MODIFIED:20260305T174926Z
UID:9454-1763812800-1763845200@creaturecomfortsbeer.com
SUMMARY:Nosh Pop-Up
DESCRIPTION:Nosh\, a local pop-up\, will be onsite with a variety of fare to choose from!
URL:https://creaturecomfortsbeer.com/events/nosh-pop-up-2025-11-22/
LOCATION:Athens Taproom\, 271 W Hancock Ave\, Athens\, GA\, 30601\, United States
CATEGORIES:Athens
ATTACH;FMTTYPE=image/png:https://creaturecomfortsbeer.com/wp-content/uploads/2024/07/Nosh-logo.png
END:VEVENT
BEGIN:VEVENT
DTSTART;TZID=America/New_York:20251122T113000
DTEND;TZID=America/New_York:20251122T180000
DTSTAMP:20260425T101754
CREATED:20250815T195430Z
LAST-MODIFIED:20251029T184204Z
UID:8982-1763811000-1763834400@creaturecomfortsbeer.com
SUMMARY:UGA vs. Charlotte Watch Party
DESCRIPTION:Watch the UGA vs. Charlotte game at the Official Taproom of the Dawgs! Atlanta News First will be onsite doing a live broadcast with Jake Fromm and other legendary Bulldogs one hour before + one hour after the game. Go Dawgs\, Sip Em!
URL:https://creaturecomfortsbeer.com/events/uga-vs-marshall-watch-party/
LOCATION:Athens Taproom\, 271 W Hancock Ave\, Athens\, GA\, 30601\, United States
CATEGORIES:Athens
ATTACH;FMTTYPE=image/jpeg:https://creaturecomfortsbeer.com/wp-content/uploads/2024/09/Events_Page_Generic_02.jpg
END:VEVENT
BEGIN:VEVENT
DTSTART;TZID=America/New_York:20251121T183000
DTEND;TZID=America/New_York:20251121T203000
DTSTAMP:20260425T101754
CREATED:20250815T193738Z
LAST-MODIFIED:20260305T212633Z
UID:8976-1763749800-1763757000@creaturecomfortsbeer.com
SUMMARY:Live Music: Stratton James
DESCRIPTION:Stratton James will be onsite serenading the taproom with easy-listening covers and original songs!
URL:https://creaturecomfortsbeer.com/events/live-music-stratton-james/
LOCATION:GA
CATEGORIES:Athens
ATTACH;FMTTYPE=image/png:https://creaturecomfortsbeer.com/wp-content/uploads/2025/08/8-16-Sat-Stratton-James-7-10pm-–-1.png
END:VEVENT
BEGIN:VEVENT
DTSTART;TZID=America/New_York:20251121T170000
DTEND;TZID=America/New_York:20251121T220000
DTSTAMP:20260425T101754
CREATED:20251029T172625Z
LAST-MODIFIED:20260305T175437Z
UID:9449-1763744400-1763762400@creaturecomfortsbeer.com
SUMMARY:Philly Boyz Food Truck Onsite
DESCRIPTION:
URL:https://creaturecomfortsbeer.com/events/philly-boyz-food-truck-onsite-2025-11-21/
LOCATION:Athens Taproom\, 271 W Hancock Ave\, Athens\, GA\, 30601\, United States
CATEGORIES:Athens
ATTACH;FMTTYPE=image/png:https://creaturecomfortsbeer.com/wp-content/uploads/2025/10/NEW-Philly-Boyz-Cheesesteaks-color-logo-on-white-1-scaled.png
END:VEVENT
BEGIN:VEVENT
DTSTART;TZID=America/New_York:20251115T130000
DTEND;TZID=America/New_York:20251115T220000
DTSTAMP:20260425T101754
CREATED:20230905T174528Z
LAST-MODIFIED:20260305T175339Z
UID:9446-1763211600-1763244000@creaturecomfortsbeer.com
SUMMARY:Cafe Racer Food Truck Onsite
DESCRIPTION:Cafe Racer’s food truck will be onsite serving their famous burgers and fries!
URL:https://creaturecomfortsbeer.com/events/cafe-racer-food-truck-onsite-2025-11-15/
LOCATION:Athens Taproom\, 271 W Hancock Ave\, Athens\, GA\, 30601\, United States
CATEGORIES:Athens
ATTACH;FMTTYPE=image/jpeg:https://creaturecomfortsbeer.com/wp-content/uploads/2023/09/Cafe-Racer.jpg
END:VEVENT
BEGIN:VEVENT
DTSTART;TZID=America/New_York:20251115T120000
DTEND;TZID=America/New_York:20251115T220000
DTSTAMP:20260425T101754
CREATED:20251002T154512Z
LAST-MODIFIED:20251029T183704Z
UID:9330-1763208000-1763244000@creaturecomfortsbeer.com
SUMMARY:UGA vs. Texas Watch Party
DESCRIPTION:Watch the UGA vs. Texas game at the Official Taproom of the Dawgs! Atlanta News First will be onsite doing a live broadcast with Jake Fromm and other legendary Bulldogs one hour before + one hour after the game. Go Dawgs\, Sip Em!
URL:https://creaturecomfortsbeer.com/events/uga-vs-kentucky-watch-party-2/
LOCATION:Athens Taproom\, 271 W Hancock Ave\, Athens\, GA\, 30601\, United States
CATEGORIES:Athens
ATTACH;FMTTYPE=image/jpeg:https://creaturecomfortsbeer.com/wp-content/uploads/2024/09/Events_Page_Generic_02.jpg
END:VEVENT
BEGIN:VEVENT
DTSTART;TZID=America/New_York:20251115T120000
DTEND;TZID=America/New_York:20251115T210000
DTSTAMP:20260425T101754
CREATED:20240219T214605Z
LAST-MODIFIED:20251029T192050Z
UID:9447-1763208000-1763240400@creaturecomfortsbeer.com
SUMMARY:La Pa on Wheels Onsite
DESCRIPTION:Enjoy some Mexican fare from our friends at La Parrilla!
URL:https://creaturecomfortsbeer.com/events/la-pa-on-wheels-onsite-2025-11-15/
LOCATION:Athens Taproom\, 271 W Hancock Ave\, Athens\, GA\, 30601\, United States
CATEGORIES:Athens
ATTACH;FMTTYPE=image/jpeg:https://creaturecomfortsbeer.com/wp-content/uploads/2023/03/LaPa-on-Wheels-e1685030331546.jpeg
END:VEVENT
BEGIN:VEVENT
DTSTART;TZID=America/New_York:20251114T170000
DTEND;TZID=America/New_York:20251114T220000
DTSTAMP:20260425T101754
CREATED:20240219T214605Z
LAST-MODIFIED:20240219T214605Z
UID:9455-1763139600-1763157600@creaturecomfortsbeer.com
SUMMARY:La Pa on Wheels Onsite
DESCRIPTION:Enjoy some Mexican fare from our friends at La Parrilla!
URL:https://creaturecomfortsbeer.com/events/la-pa-on-wheels-onsite-2025-11-14/
LOCATION:Athens Taproom\, 271 W Hancock Ave\, Athens\, GA\, 30601\, United States
CATEGORIES:Athens
ATTACH;FMTTYPE=image/jpeg:https://creaturecomfortsbeer.com/wp-content/uploads/2023/03/LaPa-on-Wheels-e1685030331546.jpeg
END:VEVENT
BEGIN:VEVENT
DTSTART;TZID=America/New_York:20251113T180000
DTEND;TZID=America/New_York:20251113T200000
DTSTAMP:20260425T101754
CREATED:20250815T194050Z
LAST-MODIFIED:20250815T194050Z
UID:9445-1763056800-1763064000@creaturecomfortsbeer.com
SUMMARY:Curious Creatures Trivia: 1990's Music- Britpop Edition
DESCRIPTION:Join us for Curious Creatures Trivia- 1990’s Music! Prizes for first\, second\, and third place.
URL:https://creaturecomfortsbeer.com/events/curious-creatures-trivia-1990s-music-2-2025-11-13/
LOCATION:Athens Taproom\, 271 W Hancock Ave\, Athens\, GA\, 30601\, United States
CATEGORIES:Athens
ATTACH;FMTTYPE=image/jpeg:https://creaturecomfortsbeer.com/wp-content/uploads/2025/08/90s_Music_Trivia_85x11_11.16.jpg
END:VEVENT
BEGIN:VEVENT
DTSTART;TZID=America/New_York:20251109T130000
DTEND;TZID=America/New_York:20251109T170000
DTSTAMP:20260425T101754
CREATED:20231012T142822Z
LAST-MODIFIED:20260305T174545Z
UID:6304-1762693200-1762707600@creaturecomfortsbeer.com
SUMMARY:Athens Plant Community Sale
DESCRIPTION:The Athens Plant Community is hosting a plant sale/swap onsite! Multiple local vendors will be selling a variety of plants.
URL:https://creaturecomfortsbeer.com/events/athens-plant-community-sale/
LOCATION:Athens Taproom\, 271 W Hancock Ave\, Athens\, GA\, 30601\, United States
CATEGORIES:Athens
ATTACH;FMTTYPE=image/jpeg:https://creaturecomfortsbeer.com/wp-content/uploads/2024/10/leaves.jpg
END:VEVENT
BEGIN:VEVENT
DTSTART;TZID=America/New_York:20251108T120000
DTEND;TZID=America/New_York:20251108T210000
DTSTAMP:20260425T101754
CREATED:20250228T215634Z
LAST-MODIFIED:20260305T175120Z
UID:9440-1762603200-1762635600@creaturecomfortsbeer.com
SUMMARY:Pizza Flamma Onsite
DESCRIPTION:Pizza Flamma will be onsite serving their delicious pies!
URL:https://creaturecomfortsbeer.com/events/pizza-flamma-onsite-2025-11-08/
LOCATION:Athens Taproom\, 271 W Hancock Ave\, Athens\, GA\, 30601\, United States
CATEGORIES:Athens
ATTACH;FMTTYPE=image/png:https://creaturecomfortsbeer.com/wp-content/uploads/2025/02/Black-Logo-Pizza-Flamma.png
END:VEVENT
BEGIN:VEVENT
DTSTART;TZID=America/New_York:20251108T120000
DTEND;TZID=America/New_York:20251108T150000
DTSTAMP:20260425T101754
CREATED:20251002T155228Z
LAST-MODIFIED:20251029T175038Z
UID:9332-1762603200-1762614000@creaturecomfortsbeer.com
SUMMARY:UGA vs. Mississippi State Watch Party
DESCRIPTION:Watch the UGA vs. Mississippi State game at the Official Taproom of the Dawgs! We’ll kick off our What’s That Comin’ Down the Track glassware giveaway at kickoff. DJ Loh-ron will also be in the house to play some sweet tunes during commercial breaks. The taproom will open at 11\, so come early to grab a seat. Try our new Classic City Light while you’re here!
URL:https://creaturecomfortsbeer.com/events/uga-vs-ole-miss-watch-party/
LOCATION:Athens Taproom\, 271 W Hancock Ave\, Athens\, GA\, 30601\, United States
CATEGORIES:Athens
ATTACH;FMTTYPE=image/jpeg:https://creaturecomfortsbeer.com/wp-content/uploads/2024/09/Events_Page_Generic_02.jpg
END:VEVENT
BEGIN:VEVENT
DTSTART;TZID=America/New_York:20251107T180000
DTEND;TZID=America/New_York:20251107T220000
DTSTAMP:20260425T101754
CREATED:20241030T211833Z
LAST-MODIFIED:20251029T174632Z
UID:7584-1762538400-1762552800@creaturecomfortsbeer.com
SUMMARY:Vinyl Night Open Deck
DESCRIPTION:Bring your favorite vinyl to the taproom! DJ Nate and DJ Jiig will be onsite to help you spin your records.
URL:https://creaturecomfortsbeer.com/events/vinyl-night-open-deck-with-dj-nate-and-dj-jiig/
LOCATION:Athens Taproom\, 271 W Hancock Ave\, Athens\, GA\, 30601\, United States
CATEGORIES:Athens
ATTACH;FMTTYPE=image/jpeg:https://creaturecomfortsbeer.com/wp-content/uploads/2024/10/open_decks_Vinyl_night.jpg
END:VEVENT
BEGIN:VEVENT
DTSTART;TZID=America/New_York:20251107T170000
DTEND;TZID=America/New_York:20251107T210000
DTSTAMP:20260425T101754
CREATED:20251029T174456Z
LAST-MODIFIED:20260102T173829Z
UID:9435-1762534800-1762549200@creaturecomfortsbeer.com
SUMMARY:Punta Cana Pop Up Onsite
DESCRIPTION:Punta Cana Latin Grill will be onsite serving up their delicious empanadas!
URL:https://creaturecomfortsbeer.com/events/punta-cana-pop-up-onsite/
LOCATION:Athens Taproom\, 271 W Hancock Ave\, Athens\, GA\, 30601\, United States
CATEGORIES:Athens
ATTACH;FMTTYPE=image/jpeg:https://creaturecomfortsbeer.com/wp-content/uploads/2025/10/DEC89F47-32C5-4BF3-9403-F511EA2941D9-1.jpg
END:VEVENT
BEGIN:VEVENT
DTSTART;TZID=America/New_York:20251106T173000
DTEND;TZID=America/New_York:20251106T190000
DTSTAMP:20260425T101754
CREATED:20251029T180105Z
LAST-MODIFIED:20251029T180105Z
UID:9441-1762450200-1762455600@creaturecomfortsbeer.com
SUMMARY:Athens Music Walk of Fame Celebration
DESCRIPTION:Join us in celebrating the Athens music scene with a panel discussion featuring local legends David Barbe\, Michael Lachowski\, Dan Horowitz\, and Nathan Sheets!
URL:https://creaturecomfortsbeer.com/events/athens-music-walk-of-fame-celebration/
LOCATION:Athens Taproom\, 271 W Hancock Ave\, Athens\, GA\, 30601\, United States
CATEGORIES:Athens
ATTACH;FMTTYPE=image/png:https://creaturecomfortsbeer.com/wp-content/uploads/2025/10/MUSIC_WALK_OF_FAME_CELEBRATION_2025-scaled.png
END:VEVENT
BEGIN:VEVENT
DTSTART;TZID=America/New_York:20251105T180000
DTEND;TZID=America/New_York:20251105T193000
DTSTAMP:20260425T101754
CREATED:20251029T173918Z
LAST-MODIFIED:20251029T173918Z
UID:9433-1762365600-1762371000@creaturecomfortsbeer.com
SUMMARY:London Dry Gin Cocktail Class in Cura
DESCRIPTION:Celebrate the release of Creature Comforts’ London Dry Gin with a cocktail class in Cura\, our cocktail lounge\, followed by a tour of our distillery! Ticket includes: \n\n2 cocktails: one made by CCBC\, and one that you will learn to make yourself!\nEducational experience highlighting our gin and our distillation process\nTour of our distillery\n1 bottle of London Dry Gin to take home\n\nPurchase tickets HERE
URL:https://creaturecomfortsbeer.com/events/london-dry-gin-cocktail-class-in-cura/
LOCATION:Athens Taproom\, 271 W Hancock Ave\, Athens\, GA\, 30601\, United States
CATEGORIES:Athens
ATTACH;FMTTYPE=image/jpeg:https://creaturecomfortsbeer.com/wp-content/uploads/2025/10/Cura-fall-menu-oznr-2.jpg
END:VEVENT
BEGIN:VEVENT
DTSTART;TZID=America/New_York:20251101T153000
DTEND;TZID=America/New_York:20251101T190000
DTSTAMP:20260425T101754
CREATED:20251002T155541Z
LAST-MODIFIED:20251029T172230Z
UID:9333-1762011000-1762023600@creaturecomfortsbeer.com
SUMMARY:UGA vs. Florida Watch Party
DESCRIPTION:Watch the UGA vs. Florida game at the Official Taproom of the Dawgs! We’ll kick off our Dawgs on Trop glassware giveaway at kickoff. DJ Lah-ree will also be in the house to play some sweet tunes during commercial breaks. Try our new Classic City Light while you’re here!
URL:https://creaturecomfortsbeer.com/events/uga-vs-auburn-watch-party-2/
LOCATION:Athens Taproom\, 271 W Hancock Ave\, Athens\, GA\, 30601\, United States
CATEGORIES:Athens
ATTACH;FMTTYPE=image/jpeg:https://creaturecomfortsbeer.com/wp-content/uploads/2024/09/Events_Page_Generic_02.jpg
END:VEVENT
END:VCALENDAR