
BEGIN:VCALENDAR
VERSION:2.0
PRODID:-//Creature Comforts - ECPv6.15.20//NONSGML v1.0//EN
CALSCALE:GREGORIAN
METHOD:PUBLISH
X-WR-CALNAME:Creature Comforts
X-ORIGINAL-URL:https://creaturecomfortsbeer.com
X-WR-CALDESC:Events for Creature Comforts
REFRESH-INTERVAL;VALUE=DURATION:PT1H
X-Robots-Tag:noindex
X-PUBLISHED-TTL:PT1H
BEGIN:VTIMEZONE
TZID:America/New_York
BEGIN:DAYLIGHT
TZOFFSETFROM:-0500
TZOFFSETTO:-0400
TZNAME:EDT
DTSTART:20200308T070000
END:DAYLIGHT
BEGIN:STANDARD
TZOFFSETFROM:-0400
TZOFFSETTO:-0500
TZNAME:EST
DTSTART:20201101T060000
END:STANDARD
BEGIN:DAYLIGHT
TZOFFSETFROM:-0500
TZOFFSETTO:-0400
TZNAME:EDT
DTSTART:20210314T070000
END:DAYLIGHT
BEGIN:STANDARD
TZOFFSETFROM:-0400
TZOFFSETTO:-0500
TZNAME:EST
DTSTART:20211107T060000
END:STANDARD
BEGIN:DAYLIGHT
TZOFFSETFROM:-0500
TZOFFSETTO:-0400
TZNAME:EDT
DTSTART:20220313T070000
END:DAYLIGHT
BEGIN:STANDARD
TZOFFSETFROM:-0400
TZOFFSETTO:-0500
TZNAME:EST
DTSTART:20221106T060000
END:STANDARD
END:VTIMEZONE
BEGIN:VEVENT
DTSTART;TZID=America/New_York:20210511T120000
DTEND;TZID=America/New_York:20210511T220000
DTSTAMP:20260424T111915
CREATED:20210510T183653Z
LAST-MODIFIED:20210510T183653Z
UID:3394-1620734400-1620770400@creaturecomfortsbeer.com
SUMMARY:Galactic Space Circus Release
DESCRIPTION:Galactic Space Circus is a single-hopped Hazy IPA that highlights the bright citrus and tropical notes of Australian Galaxy hops.
URL:https://creaturecomfortsbeer.com/events/galactic-space-circus-release/
LOCATION:GA
ATTACH;FMTTYPE=image/jpeg:https://creaturecomfortsbeer.com/wp-content/uploads/2021/05/CCBC_GSCStillWeb-3.jpg
END:VEVENT
BEGIN:VEVENT
DTSTART;TZID=America/New_York:20210511T120000
DTEND;TZID=America/New_York:20210511T220000
DTSTAMP:20260424T111915
CREATED:20210510T183815Z
LAST-MODIFIED:20210510T183815Z
UID:3398-1620734400-1620770400@creaturecomfortsbeer.com
SUMMARY:Athena Paradiso Release
DESCRIPTION:Athena Paradiso is a Fruited Berliner Weisse brewed with a house blend of Lactobacillus and a variety of fruit juices and purees. This version of Athena Paradiso features passion fruit and guava.
URL:https://creaturecomfortsbeer.com/events/athena-paradiso-release-2/
LOCATION:GA
ATTACH;FMTTYPE=image/jpeg:https://creaturecomfortsbeer.com/wp-content/uploads/2021/05/CCBC_ParadisoPGStillWeb-5.jpg
END:VEVENT
BEGIN:VEVENT
DTSTART;VALUE=DATE:20210524
DTEND;VALUE=DATE:20210525
DTSTAMP:20260424T111915
CREATED:20210329T211059Z
LAST-MODIFIED:20210422T195916Z
UID:3253-1621814400-1621900799@creaturecomfortsbeer.com
SUMMARY:Adjusted Taproom Hours
DESCRIPTION:We will have adjusted drive-thru and taproom hours today for an all staff meeting! \nDrive-thru: 12:00 pm- 3:30 pm\nTaproom: 6:00 pm -10:00pm
URL:https://creaturecomfortsbeer.com/events/adjusted-taproom-hours-2/
LOCATION:GA
ATTACH;FMTTYPE=image/jpeg:https://creaturecomfortsbeer.com/wp-content/uploads/2021/03/CCBC_STPavillionPeopleStillInsta-3702-2.jpg
END:VEVENT
BEGIN:VEVENT
DTSTART;VALUE=DATE:20210531
DTEND;VALUE=DATE:20210601
DTSTAMP:20260424T111915
CREATED:20210528T193413Z
LAST-MODIFIED:20210528T193413Z
UID:3443-1622419200-1622505599@creaturecomfortsbeer.com
SUMMARY:Taproom Closed Memorial Day
DESCRIPTION:Our taproom will be closed for Memorial Day.
URL:https://creaturecomfortsbeer.com/events/taproom-closed-memorial-day/
LOCATION:GA
ATTACH;FMTTYPE=image/jpeg:https://creaturecomfortsbeer.com/wp-content/uploads/2020/08/CCBC_SnowTireFacadeStillWeb-1-2.jpg
END:VEVENT
BEGIN:VEVENT
DTSTART;TZID=America/New_York:20210609T120000
DTEND;TZID=America/New_York:20210609T150000
DTSTAMP:20260424T111915
CREATED:20210604T144544Z
LAST-MODIFIED:20210604T144544Z
UID:3449-1623240000-1623250800@creaturecomfortsbeer.com
SUMMARY:Shred Day
DESCRIPTION:We’re thrilled to partner with LAD Records Management to host our first-ever document shredding event on Wednesday\, June 9th from 12-3 pm at our taproom drive-thru. \nBring your personal documents—up to 2 boxes—to be shredded securely. This drive-thru event is free to all\, with a suggested donation to the Get Comfortable Fund\, which addresses our county’s most pressing needs. \nSo gather up your documents and learn more at GetCurious.com.
URL:https://creaturecomfortsbeer.com/events/shred-day/
LOCATION:GA
ATTACH;FMTTYPE=image/jpeg:https://creaturecomfortsbeer.com/wp-content/uploads/2021/06/ShredDay_1080x1080.jpg
END:VEVENT
BEGIN:VEVENT
DTSTART;TZID=America/New_York:20210611T120000
DTEND;TZID=America/New_York:20210611T220000
DTSTAMP:20260424T111915
CREATED:20210517T190822Z
LAST-MODIFIED:20210608T203506Z
UID:3411-1623412800-1623448800@creaturecomfortsbeer.com
SUMMARY:Culture Keepers Release
DESCRIPTION:Culture Keepers is a Maibock brewed in collaboration with Burial Beer Co. and features a perfectly balanced combination of traditional malt and hop qualities. Czech Saaz\, German Hallertauer Hersbrucker\, & US Santiam hops blend wonderfully together with Epiphany’s Ursprung Fest Malt\, and Munich malt to capture the traditional essence of bock beer.
URL:https://creaturecomfortsbeer.com/events/culture-keepers-release/
LOCATION:GA
ATTACH;FMTTYPE=image/jpeg:https://creaturecomfortsbeer.com/wp-content/uploads/2020/06/CCBC_CultureKeepersStillWeb-.jpg
END:VEVENT
BEGIN:VEVENT
DTSTART;TZID=America/New_York:20210611T120000
DTEND;TZID=America/New_York:20210611T220000
DTSTAMP:20260424T111915
CREATED:20210517T190829Z
LAST-MODIFIED:20210608T203450Z
UID:3410-1623412800-1623448800@creaturecomfortsbeer.com
SUMMARY:Simply Put Release
DESCRIPTION:Simply Put is a Rice Lager brewed in collaboration with our friends at Threes Brewing. We made this collaborative brew with Marsh Hen Mill Carolina Gold rice\, along with Pacifica and Meridian hops. Light\, crisp and dry Simply Put has sweet grain notes balanced by a citrusy hop character.
URL:https://creaturecomfortsbeer.com/events/simply-put-release/
LOCATION:GA
ATTACH;FMTTYPE=image/jpeg:https://creaturecomfortsbeer.com/wp-content/uploads/2021/05/CCBC_SimplyPutStillWeb-.jpg
END:VEVENT
BEGIN:VEVENT
DTSTART;TZID=America/New_York:20210611T120000
DTEND;TZID=America/New_York:20210611T220000
DTSTAMP:20260424T111915
CREATED:20210607T190108Z
LAST-MODIFIED:20210607T190108Z
UID:3455-1623412800-1623448800@creaturecomfortsbeer.com
SUMMARY:Athena Painkiller Release
DESCRIPTION:Lookout for an Athena filled Summer! Our tropical Berliner Weisse\, Athena Painkiller\, returns to our taproom June 11th. Inspired by the Painkiller cocktail\, this beer is brewed with pineapple\, coconut\, orange\, lime\, nutmeg\, and vanilla!
URL:https://creaturecomfortsbeer.com/events/athena-painkiller-release/
LOCATION:GA
ATTACH;FMTTYPE=image/jpeg:https://creaturecomfortsbeer.com/wp-content/uploads/2020/06/CCBC_AthPainkillerStillWeb-.jpg
END:VEVENT
BEGIN:VEVENT
DTSTART;TZID=America/New_York:20210612T120000
DTEND;TZID=America/New_York:20210612T220000
DTSTAMP:20260424T111915
CREATED:20210603T174356Z
LAST-MODIFIED:20210603T174857Z
UID:3448-1623499200-1623535200@creaturecomfortsbeer.com
SUMMARY:Eukaryote Release
DESCRIPTION:Eukaryote is a dry-hopped\, mixed-culture Table Saison (4.2%) featuring DaySpring wheat\, Saaz and Hallertau Mittelfrüh hops\, and dry-hopped with New Zealand Rakau. Aptly named\, this beer celebrates eukaryotes. Eukaryote is a very classic approach to historical Saison with a simple grain bill using DaySpring Farms wheat. It’s highly hopped with European hops and our slight twist to the historical style uses New Zealand hops in the dry hop.
URL:https://creaturecomfortsbeer.com/events/eukaryote-release/
LOCATION:GA
ATTACH;FMTTYPE=image/jpeg:https://creaturecomfortsbeer.com/wp-content/uploads/2020/09/CCBC_EukaryoteStillWeb-4.jpg
END:VEVENT
BEGIN:VEVENT
DTSTART;TZID=America/New_York:20210625T120000
DTEND;TZID=America/New_York:20210625T220000
DTSTAMP:20260424T111915
CREATED:20210621T210047Z
LAST-MODIFIED:20210621T210124Z
UID:3497-1624622400-1624658400@creaturecomfortsbeer.com
SUMMARY:Harmonia Release
DESCRIPTION:Harmonia is a German-style Pilsner (5%) showcasing German ingredients including Perle\, Hersbrucker\, and Mittlefruh hops and German Weyermann Pilsner malt. Taking inspiration from German producers\, we brewed Harmonia in a classic approach using traditional German lagering techniques to make a crisp\, smooth\, and hop-forward lager. We sourced the hops from Seitz Farm based in Bavaria’s Hallertau region. Pre-order on Oznr now!
URL:https://creaturecomfortsbeer.com/events/harmonia-release/
LOCATION:GA
ATTACH;FMTTYPE=image/jpeg:https://creaturecomfortsbeer.com/wp-content/uploads/2021/06/CCBC_HarmoniaStillOznr-.jpg
END:VEVENT
BEGIN:VEVENT
DTSTART;VALUE=DATE:20210628
DTEND;VALUE=DATE:20210629
DTSTAMP:20260424T111915
CREATED:20210329T211151Z
LAST-MODIFIED:20210422T195859Z
UID:3254-1624838400-1624924799@creaturecomfortsbeer.com
SUMMARY:Adjusted Taproom Hours
DESCRIPTION:We will have adjusted drive-thru and taproom hours today for an all staff meeting! \nDrive-thru: 12:00 pm- 3:30 pm\nTaproom: 6:00 pm -10:00pm
URL:https://creaturecomfortsbeer.com/events/adjusted-taproom-hours-3/
LOCATION:GA
ATTACH;FMTTYPE=image/jpeg:https://creaturecomfortsbeer.com/wp-content/uploads/2021/03/CCBC_STPavillionPeopleStillInsta-3702-2.jpg
END:VEVENT
BEGIN:VEVENT
DTSTART;VALUE=DATE:20210705
DTEND;VALUE=DATE:20210706
DTSTAMP:20260424T111915
CREATED:20210623T144533Z
LAST-MODIFIED:20210623T144644Z
UID:3504-1625443200-1625529599@creaturecomfortsbeer.com
SUMMARY:Taproom Closed
DESCRIPTION:Our taproom and drive-thru will be closed Monday\, July 5th. See you on Tuesday\, July 6th!
URL:https://creaturecomfortsbeer.com/events/taproom-closed-3/
LOCATION:GA
ATTACH;FMTTYPE=image/jpeg:https://creaturecomfortsbeer.com/wp-content/uploads/2020/08/CCBC_SnowTireFacadeStillWeb-e1597666850489.jpg
END:VEVENT
BEGIN:VEVENT
DTSTART;TZID=America/New_York:20210714T160000
DTEND;TZID=America/New_York:20210714T190000
DTSTAMP:20260424T111915
CREATED:20210701T141257Z
LAST-MODIFIED:20210701T141345Z
UID:3522-1626278400-1626289200@creaturecomfortsbeer.com
SUMMARY:Athens Farmers Market
DESCRIPTION:Join us every Wednesday for the Athens Farmers Market from 4-7pm starting July 14th at the brewery! Come out to grab some fresh produce\, meat\, baked goods\, and more\, all paired with a glass of cold beer in hand. \n*Our drive-thru will start closing at 2pm on market days*
URL:https://creaturecomfortsbeer.com/events/athens-farmers-market/
LOCATION:GA
ATTACH;FMTTYPE=image/jpeg:https://creaturecomfortsbeer.com/wp-content/uploads/2021/07/farmersmarket-scaled-e1677882504179.jpg
END:VEVENT
BEGIN:VEVENT
DTSTART;TZID=America/New_York:20210716T150000
DTEND;TZID=America/New_York:20210716T220000
DTSTAMP:20260424T111915
CREATED:20210715T200259Z
LAST-MODIFIED:20210715T200259Z
UID:3576-1626447600-1626472800@creaturecomfortsbeer.com
SUMMARY:Wild Planet Release
DESCRIPTION:We’re throwing it back to the classic West Coast style IPA with our latest release\, Wild Planet. Wild Planet is dry\, crisp\, and hop-forward featuring Simcoe\, Cascade\, Chinook\, and Amarillo. You can reserve cans on Oznr now and join us for the taproom release today!
URL:https://creaturecomfortsbeer.com/events/wild-planet-release/
LOCATION:GA
ATTACH;FMTTYPE=image/jpeg:https://creaturecomfortsbeer.com/wp-content/uploads/2021/07/CCBC_WildPlanetStillWeb-.jpg
END:VEVENT
BEGIN:VEVENT
DTSTART;TZID=America/New_York:20210717T120000
DTEND;TZID=America/New_York:20210717T220000
DTSTAMP:20260424T111915
CREATED:20210715T140948Z
LAST-MODIFIED:20210715T140948Z
UID:3572-1626523200-1626559200@creaturecomfortsbeer.com
SUMMARY:Many Voices Release
DESCRIPTION:One of our favorite things about beer is its communal nature and ability to bring people together. With this in mind\, we designed our latest limited release to pay homage to the quintessential session beer from Koln\, Germany\, widely known as Kölsch. Inspired by this tradition\, Many Voices is a Kölsch-style session beer (4.7%) featuring Hersbrucker and Hallertau Blanc hops and Weyermann Barke Pilsner malt. Join us in the taproom for Kölsch service on Saturday.\n\n\n \n\n\nA Kölsch service is the way you would experience the Kölsch beer in Cologne\, Germany. Served in 8oz glasses\, servers come around to the tables with a tray to replace your glass that is nearing empty so that you never have to wait for a fresh beer. This guarantees the beer never warms up too much and is always fresh from the tap.
URL:https://creaturecomfortsbeer.com/events/many-voices-release/
LOCATION:GA
ATTACH;FMTTYPE=image/jpeg:https://creaturecomfortsbeer.com/wp-content/uploads/2021/07/CCBC_KolschPartyStillWeb-3064.jpg
END:VEVENT
BEGIN:VEVENT
DTSTART;TZID=America/New_York:20210721T160000
DTEND;TZID=America/New_York:20210721T190000
DTSTAMP:20260424T111915
CREATED:20210701T141450Z
LAST-MODIFIED:20210701T141450Z
UID:3524-1626883200-1626894000@creaturecomfortsbeer.com
SUMMARY:Athens Farmers Market
DESCRIPTION:Join us every Wednesday for the Athens Farmers Market from 4-7pm at the brewery! Come out to grab some fresh produce\, meat\, baked goods\, and more\, all paired with a glass of cold beer in hand. \n*Our drive-thru will start closing at 2pm on market days*
URL:https://creaturecomfortsbeer.com/events/athens-farmers-market-2/
LOCATION:GA
ATTACH;FMTTYPE=image/jpeg:https://creaturecomfortsbeer.com/wp-content/uploads/2021/07/farmersmarket-scaled-e1677882504179.jpg
END:VEVENT
BEGIN:VEVENT
DTSTART;TZID=America/New_York:20210723T120000
DTEND;TZID=America/New_York:20210723T220000
DTSTAMP:20260424T111915
CREATED:20210712T202722Z
LAST-MODIFIED:20210712T202722Z
UID:3553-1627041600-1627077600@creaturecomfortsbeer.com
SUMMARY:River Ridge Red Release
DESCRIPTION:River Ridge Red is a 6.6% ABV blended oak-aged beer with red raspberries\, celebrating the crop from River Ridge Organics’ 2020 harvest in Independence\, Virginia. As with many of our other barrel-aged fruited beers\, we blended perfectly aged barrel stock onto the fruit for an extended maceration. For this process\, we select the very best blend of barrels to honor the complex flavor of the amazing red raspberries grown by River Ridge Organics. We believe these are some of the finest berries you will find in the Blue Ridge Mountains. This beer is a proud addition to our fruited mixed culture farm celebrations as part of a continuing effort to explore the historical relationship between brewers and farmers.
URL:https://creaturecomfortsbeer.com/events/river-ridge-red-release/
LOCATION:GA
ATTACH;FMTTYPE=image/jpeg:https://creaturecomfortsbeer.com/wp-content/uploads/2020/06/CCBC_RRRedStillWeb-12.jpg
END:VEVENT
BEGIN:VEVENT
DTSTART;VALUE=DATE:20210726
DTEND;VALUE=DATE:20210727
DTSTAMP:20260424T111915
CREATED:20210329T211228Z
LAST-MODIFIED:20210422T195842Z
UID:3255-1627257600-1627343999@creaturecomfortsbeer.com
SUMMARY:Adjusted Taproom Hours
DESCRIPTION:We will have adjusted drive-thru and taproom hours today for an all staff meeting! \nDrive-thru: 12:00 pm- 3:30 pm\nTaproom: 6:00 pm -10:00pm
URL:https://creaturecomfortsbeer.com/events/adjusted-taproom-hours-4/
LOCATION:GA
ATTACH;FMTTYPE=image/jpeg:https://creaturecomfortsbeer.com/wp-content/uploads/2021/03/CCBC_STPavillionPeopleStillInsta-3702-2.jpg
END:VEVENT
BEGIN:VEVENT
DTSTART;TZID=America/New_York:20210728T160000
DTEND;TZID=America/New_York:20210728T190000
DTSTAMP:20260424T111915
CREATED:20210701T141532Z
LAST-MODIFIED:20210701T141532Z
UID:3525-1627488000-1627498800@creaturecomfortsbeer.com
SUMMARY:Athens Farmers Market
DESCRIPTION:Join us every Wednesday for the Athens Farmers Market from 4-7pm at the brewery! Come out to grab some fresh produce\, meat\, baked goods\, and more\, all paired with a glass of cold beer in hand. \n*Our drive-thru will start closing at 2pm on market days*
URL:https://creaturecomfortsbeer.com/events/athens-farmers-market-3/
LOCATION:GA
ATTACH;FMTTYPE=image/jpeg:https://creaturecomfortsbeer.com/wp-content/uploads/2021/07/farmersmarket-scaled-e1677882504179.jpg
END:VEVENT
BEGIN:VEVENT
DTSTART;VALUE=DATE:20210731
DTEND;VALUE=DATE:20210801
DTSTAMP:20260424T111915
CREATED:20210713T144528Z
LAST-MODIFIED:20210713T144628Z
UID:3568-1627689600-1627775999@creaturecomfortsbeer.com
SUMMARY:Taproom Closed
DESCRIPTION:Our Taproom will be closed Saturday\, July 31st for an all-staff retreat. Hope to see you on Sunday (8/1) when our Taproom reopens from 1-6pm!
URL:https://creaturecomfortsbeer.com/events/taproom-closed-4/
LOCATION:GA
ATTACH;FMTTYPE=image/jpeg:https://creaturecomfortsbeer.com/wp-content/uploads/2021/07/CCBC_7thAnniversaryWeekendStillWeb-9980.jpg
END:VEVENT
BEGIN:VEVENT
DTSTART;TZID=America/New_York:20210804T160000
DTEND;TZID=America/New_York:20210804T190000
DTSTAMP:20260424T111915
CREATED:20210701T141641Z
LAST-MODIFIED:20210701T141641Z
UID:3526-1628092800-1628103600@creaturecomfortsbeer.com
SUMMARY:Athens Farmers Market
DESCRIPTION:Join us every Wednesday for the Athens Farmers Market from 4-7pm at the brewery! Come out to grab some fresh produce\, meat\, baked goods\, and more\, all paired with a glass of cold beer in hand. \n*Our drive-thru will start closing at 2pm on market days*
URL:https://creaturecomfortsbeer.com/events/athens-farmers-market-4/
LOCATION:GA
ATTACH;FMTTYPE=image/jpeg:https://creaturecomfortsbeer.com/wp-content/uploads/2021/07/farmersmarket-scaled-e1677882504179.jpg
END:VEVENT
BEGIN:VEVENT
DTSTART;TZID=America/New_York:20210806T150000
DTEND;TZID=America/New_York:20210806T220000
DTSTAMP:20260424T111915
CREATED:20210805T174217Z
LAST-MODIFIED:20210805T174637Z
UID:3631-1628262000-1628287200@creaturecomfortsbeer.com
SUMMARY:Awaken\, My Love Release
DESCRIPTION:Wake up your senses with our release\, Awaken\, My Love. This beautiful barrel-aged Imperial Stout is made with locally sourced 1  1000 Faces Coffee’s Colombian Los Ortega coffee. This beautiful stout comes to life with the hot cocoa\, caramel\, and brown sugar notes from the coffee and a perfect touch of cinnamon. Awaken\, My Love returns to our taproom today with a special donut pairing from Nedza’s!
URL:https://creaturecomfortsbeer.com/events/awaken-my-love-release/
LOCATION:GA
ATTACH;FMTTYPE=image/jpeg:https://creaturecomfortsbeer.com/wp-content/uploads/2020/09/CCBC_AwakenStillWeb-3.jpg
END:VEVENT
BEGIN:VEVENT
DTSTART;TZID=America/New_York:20210811T160000
DTEND;TZID=America/New_York:20210811T190000
DTSTAMP:20260424T111915
CREATED:20210701T141722Z
LAST-MODIFIED:20210701T141722Z
UID:3527-1628697600-1628708400@creaturecomfortsbeer.com
SUMMARY:Athens Farmers Market
DESCRIPTION:Join us every Wednesday for the Athens Farmers Market from 4-7pm at the brewery! Come out to grab some fresh produce\, meat\, baked goods\, and more\, all paired with a glass of cold beer in hand. \n*Our drive-thru will start closing at 2pm on market days*
URL:https://creaturecomfortsbeer.com/events/athens-farmers-market-5/
LOCATION:GA
ATTACH;FMTTYPE=image/jpeg:https://creaturecomfortsbeer.com/wp-content/uploads/2021/07/farmersmarket-scaled-e1677882504179.jpg
END:VEVENT
BEGIN:VEVENT
DTSTART;TZID=America/New_York:20210818T160000
DTEND;TZID=America/New_York:20210818T190000
DTSTAMP:20260424T111915
CREATED:20210701T141812Z
LAST-MODIFIED:20210701T141812Z
UID:3528-1629302400-1629313200@creaturecomfortsbeer.com
SUMMARY:Athens Farmers Market
DESCRIPTION:Join us every Wednesday for the Athens Farmers Market from 4-7pm at the brewery! Come out to grab some fresh produce\, meat\, baked goods\, and more\, all paired with a glass of cold beer in hand. \n*Our drive-thru will start closing at 2pm on market days*
URL:https://creaturecomfortsbeer.com/events/athens-farmers-market-6/
LOCATION:GA
ATTACH;FMTTYPE=image/jpeg:https://creaturecomfortsbeer.com/wp-content/uploads/2021/07/farmersmarket-scaled-e1677882504179.jpg
END:VEVENT
BEGIN:VEVENT
DTSTART;TZID=America/New_York:20210820T150000
DTEND;TZID=America/New_York:20210820T170000
DTSTAMP:20260424T111915
CREATED:20210818T154741Z
LAST-MODIFIED:20210818T154741Z
UID:3666-1629471600-1629478800@creaturecomfortsbeer.com
SUMMARY:Get Artistic Launch
DESCRIPTION:Join us for our 2021 Get Artistic Launch on August 20th.\n\nThis year\, Get Artistic looks a bit different\, but the mission remains the same: to strengthen Athens\, Georgia’s creative community. By funding a rotating Artist-in-Residence (AiR)\, we hope to create a high-impact development opportunities for local artists. And we’re excited to welcome Noraa James as our 2021 AiR.\n\nJoin us for an afternoon of celebrating Get Artistic\, the Athens creative community\, and the start of Noraa’s onsite residency. As a reminder\, the event will run from 3:00 – 5:00 PM with a brief presentation at 3:30 PM.\n\nWe’ll have cheese pairings from Half-Shepherd Market and a live DJ set.
URL:https://creaturecomfortsbeer.com/events/get-artistic-launch/
LOCATION:GA
ATTACH;FMTTYPE=image/jpeg:https://creaturecomfortsbeer.com/wp-content/uploads/2021/07/CCBC_7thAnniversaryWeekendStillWeb-9980.jpg
END:VEVENT
BEGIN:VEVENT
DTSTART;TZID=America/New_York:20210822T150000
DTEND;TZID=America/New_York:20210822T180000
DTSTAMP:20260424T111915
CREATED:20210818T151824Z
LAST-MODIFIED:20210818T151824Z
UID:3652-1629644400-1629655200@creaturecomfortsbeer.com
SUMMARY:ARTIST-IN-RESIDENCE LIVE SESSION #1 AT CCBC
DESCRIPTION:Watch our Artist-in-Residence Noraa James at work! Noraa will create artwork and connect with guests during Live Sessions in our downtown Athens taproom on select days from August to October 2021. Be sure to stop by and say hello! \nFull schedule of Live Session dates (3:00-6:00 PM unless noted otherwise): \n\nAugust: 8/22\, 8/29\nSeptember: 9/5\, 9/12\, 9/19\, 9/26\nOctober: 10/3\, 10/17\n\nLearn more about Get Artistic at www.GetCurious.com.
URL:https://creaturecomfortsbeer.com/events/artist-in-residence-live-session-1-at-ccbc/
LOCATION:GA
ATTACH;FMTTYPE=image/png:https://creaturecomfortsbeer.com/wp-content/uploads/2021/08/NoraaJames_CreatureComforts_BeerLabel_2021.png
END:VEVENT
BEGIN:VEVENT
DTSTART;VALUE=DATE:20210823
DTEND;VALUE=DATE:20210824
DTSTAMP:20260424T111915
CREATED:20210329T211352Z
LAST-MODIFIED:20210811T141835Z
UID:3256-1629676800-1629763199@creaturecomfortsbeer.com
SUMMARY:Taproom Closed
DESCRIPTION:We will be closed today for staff training!
URL:https://creaturecomfortsbeer.com/events/adjusted-taproom-hours-5/
LOCATION:GA
ATTACH;FMTTYPE=image/jpeg:https://creaturecomfortsbeer.com/wp-content/uploads/2021/03/CCBC_STPavillionPeopleStillInsta-3702-2.jpg
END:VEVENT
BEGIN:VEVENT
DTSTART;TZID=America/New_York:20210825T160000
DTEND;TZID=America/New_York:20210825T190000
DTSTAMP:20260424T111915
CREATED:20210701T141941Z
LAST-MODIFIED:20210701T141941Z
UID:3530-1629907200-1629918000@creaturecomfortsbeer.com
SUMMARY:Athens Farmers Market
DESCRIPTION:Join us every Wednesday for the Athens Farmers Market from 4-7pm at the brewery! Come out to grab some fresh produce\, meat\, baked goods\, and more\, all paired with a glass of cold beer in hand. \n*Our drive-thru will start closing at 2pm on market days*
URL:https://creaturecomfortsbeer.com/events/athens-farmers-market-8/
LOCATION:GA
ATTACH;FMTTYPE=image/jpeg:https://creaturecomfortsbeer.com/wp-content/uploads/2021/07/farmersmarket-scaled-e1677882504179.jpg
END:VEVENT
BEGIN:VEVENT
DTSTART;TZID=America/New_York:20210829T150000
DTEND;TZID=America/New_York:20210829T180000
DTSTAMP:20260424T111915
CREATED:20210818T151954Z
LAST-MODIFIED:20210818T151954Z
UID:3654-1630249200-1630260000@creaturecomfortsbeer.com
SUMMARY:Artist-in-Residence Live Session #2 at CCBC
DESCRIPTION:Watch our Artist-in-Residence Noraa James at work! Noraa will create artwork and connect with guests during Live Sessions in our downtown Athens taproom on select days from August to October 2021. Be sure to stop by and say hello! \nFull schedule of Live Session dates (3:00-6:00 PM unless noted otherwise): \n\nAugust: 8/29\nSeptember: 9/5\, 9/12\, 9/19\, 9/26\nOctober: 10/3\, 10/17\n\nLearn more about Get Artistic at www.GetCurious.com.
URL:https://creaturecomfortsbeer.com/events/artist-in-residence-live-session-2-at-ccbc/
LOCATION:GA
ATTACH;FMTTYPE=image/png:https://creaturecomfortsbeer.com/wp-content/uploads/2021/08/NoraaJames_CreatureComforts_BeerLabel_2021.png
END:VEVENT
BEGIN:VEVENT
DTSTART;TZID=America/New_York:20210901T160000
DTEND;TZID=America/New_York:20210901T190000
DTSTAMP:20260424T111915
CREATED:20210701T141852Z
LAST-MODIFIED:20210701T142043Z
UID:3529-1630512000-1630522800@creaturecomfortsbeer.com
SUMMARY:Athens Farmers Market
DESCRIPTION:Join us every Wednesday for the Athens Farmers Market from 4-7pm at the brewery! Come out to grab some fresh produce\, meat\, baked goods\, and more\, all paired with a glass of cold beer in hand. \n*Our drive-thru will start closing at 2pm on market days*
URL:https://creaturecomfortsbeer.com/events/athens-farmers-market-7/
LOCATION:GA
ATTACH;FMTTYPE=image/jpeg:https://creaturecomfortsbeer.com/wp-content/uploads/2021/07/farmersmarket-scaled-e1677882504179.jpg
END:VEVENT
END:VCALENDAR